BEGIN:VCALENDAR
VERSION:2.0
PRODID:Stadtmuseum Dresden
BEGIN:VEVENT
UID:2deb44aa-8a2f-4188-8274-8a8dc7e70b97
DTSTART;TZID=Europe/Berlin:20261106T150000
DTEND;TZID=Europe/Berlin:20261106T152000
SEQUENCE:0
TRANSP:OPAQUE
LOCATION:Stadtmuseum Dresden (Wilsdruffer Straße 2 01067 Dresden)
SUMMARY:Aller Anfang ist schwer
CLASS:PUBLIC
DESCRIPTION:Kurzführung mit Aikaterini Dori, Stadtmuseum DresdenWas hat eine Reklamemarke der Dresdner Zigarettenfirma »Georg Jasmatzi &amp; Söhne« mit der Bekämpfung von Kartellen und Monopolen zu tun? Der Vortrag gibt Einblick in ein Stück Dresdner Industriegeschichte zu Beginn des 20. Jahrhunderts, als sich mittelständische Zigaretten-Unternehmen gegen die Übermacht amerikanischer Großkonzerne zur Wehr setzten.Jeden ersten Freitag im Monat rücken wir ein Objekt unserer Dauerausstellung in den Fokus: In Kurzführungen von max. 20 Minuten Länge präsentieren Ihnen Mitarbeitende des Museums, Mitglieder von Kooperationspartnern oder Personen aus der Stadtgesellschaft die Besonderheiten eines ausgewählten Stückes Dresdner Geschichte.
DTSTAMP:20260421T132400Z
END:VEVENT
END:VCALENDAR
