BEGIN:VCALENDAR
VERSION:2.0
PRODID:Stadtmuseum Dresden
BEGIN:VEVENT
UID:2d2fc7d7-20b9-4b4e-9488-2bd3fbeb3be0
DTSTART;TZID=Europe/Berlin:20260904T150000
DTEND;TZID=Europe/Berlin:20260904T152000
SEQUENCE:0
TRANSP:OPAQUE
LOCATION:Stadtmuseum Dresden (Wilsdruffer Straße 2 01067 Dresden)
SUMMARY:Die NS-Zeitung »Der Freiheitskampf« (1933)
CLASS:PUBLIC
DESCRIPTION:Kurzführung mit Christoph Hanzig und Sebastian Rab, Hannah- Arendt-Institut für Totalitarismusforschung e. V.Der Vortrag zeigt anhand der NS-Tageszeitung »Der Freiheitskampf« die Übernahme der kommunalen Herrschaft in Dresden durch die Nationalsozialisten auf und erläutert, wie die Zeitung selbst davon profitierte. Ausgangspunkt ist die Titelseite vom 15. März 1933. Triumphal verkündet diese die Absetzung des Ober-bürgermeisters Wilhelm Külz mit Schlagzeile und Karikatur.Jeden ersten Freitag im Monat rücken wir ein Objekt unserer Dauerausstellung in den Fokus: In Kurzführungen von max. 20 Minuten Länge präsentieren Ihnen Mitarbeitende des Museums, Mitglieder von Kooperationspartnern oder Personen aus der Stadtgesellschaft die Besonderheiten eines ausgewählten Stückes Dresdner Geschichte.
DTSTAMP:20260421T132500Z
END:VEVENT
END:VCALENDAR
