BEGIN:VCALENDAR
VERSION:2.0
PRODID:Stadtmuseum Dresden
BEGIN:VEVENT
UID:28e77814-0105-4ba0-9a54-af9286f028bb
DTSTART;TZID=Europe/Berlin:20261002T150000
DTEND;TZID=Europe/Berlin:20261002T152000
SEQUENCE:0
TRANSP:OPAQUE
LOCATION:Stadtmuseum Dresden (Wilsdruffer Straße 2 01067 Dresden)
SUMMARY:Gesund oder krank?
CLASS:PUBLIC
DESCRIPTION:Kurzführung mit Nadine Kulbe, ISGV1930 fand in Dresden im und um das neu errichtete Hygiene-Museum die II. Internationale Hygiene-Ausstellung statt, für die der Grafiker Willy Petzold ein Plakat entwarf, dessen zentrales Symbol – ein Auge – bis heute als Logo des Museums dient. Warum wurde Dresden zu jener Zeit zu einem der wichtigsten Orte für Fragen um Gesundheit und Krankheit? Und warum heißt das Museum eigentlich Hygiene-Museum?Jeden ersten Freitag im Monat rücken wir ein Objekt unserer Dauerausstellung in den Fokus: In Kurzführungen von max. 20 Minuten Länge präsentieren Ihnen Mitarbeitende des Museums, Mitglieder von Kooperationspartnern oder Personen aus der Stadtgesellschaft die Besonderheiten eines ausgewählten Stückes Dresdner Geschichte.
DTSTAMP:20260421T140000Z
END:VEVENT
END:VCALENDAR
