BEGIN:VCALENDAR
VERSION:2.0
PRODID:Stadtmuseum Dresden
BEGIN:VEVENT
UID:e7c92da6-0036-4def-939b-87afb62a1b91
DTSTART;TZID=Europe/Berlin:20261204T150000
DTEND;TZID=Europe/Berlin:20261204T152000
SEQUENCE:0
TRANSP:OPAQUE
LOCATION:Stadtmuseum Dresden (Wilsdruffer Straße 2 01067 Dresden)
SUMMARY:Vom geselligen Lied zur Europahymne
CLASS:PUBLIC
DESCRIPTION:Kurzführung mit Gabriele Drews, Schiller &amp; Körner in Dresden e. V.Vorgestellt wird in Wort und Ton das wohl bekannteste Gedicht Friedrich Schillers. Die Inspiration zu diesem Werk empfing der Dichter in Leipzig, wo er seinen Freund und Mäzen Christian Gottfried Körner kennen-lernte. Vollendet, gedruckt und erstmals vertont wurde es 1785 in Dresden. Zu Gehör kommen die erste Vertonung von Körner und die bekannteste von Beethoven.Jeden ersten Freitag im Monat rücken wir ein Objekt unserer Dauerausstellung in den Fokus: In Kurzführungen von max. 20 Minuten Länge präsentieren Ihnen Mitarbeitende des Museums, Mitglieder von Kooperationspartnern oder Personen aus der Stadtgesellschaft die Besonderheiten eines ausgewählten Stückes Dresdner Geschichte.
DTSTAMP:20260421T134900Z
END:VEVENT
END:VCALENDAR
